BEGIN:VCALENDAR
VERSION:2.0
PRODID:-//Ortsgemeinde Sulzheim / Rheinhessen - ECPv6.15.20//NONSGML v1.0//EN
CALSCALE:GREGORIAN
METHOD:PUBLISH
X-WR-CALNAME:Ortsgemeinde Sulzheim / Rheinhessen
X-ORIGINAL-URL:https://sulzheim-rhh.de
X-WR-CALDESC:Veranstaltungen für Ortsgemeinde Sulzheim / Rheinhessen
REFRESH-INTERVAL;VALUE=DURATION:PT1H
X-Robots-Tag:noindex
X-PUBLISHED-TTL:PT1H
BEGIN:VTIMEZONE
TZID:Europe/Berlin
BEGIN:DAYLIGHT
TZOFFSETFROM:+0100
TZOFFSETTO:+0200
TZNAME:CEST
DTSTART:20250330T010000
END:DAYLIGHT
BEGIN:STANDARD
TZOFFSETFROM:+0200
TZOFFSETTO:+0100
TZNAME:CET
DTSTART:20251026T010000
END:STANDARD
BEGIN:DAYLIGHT
TZOFFSETFROM:+0100
TZOFFSETTO:+0200
TZNAME:CEST
DTSTART:20260329T010000
END:DAYLIGHT
BEGIN:STANDARD
TZOFFSETFROM:+0200
TZOFFSETTO:+0100
TZNAME:CET
DTSTART:20261025T010000
END:STANDARD
BEGIN:DAYLIGHT
TZOFFSETFROM:+0100
TZOFFSETTO:+0200
TZNAME:CEST
DTSTART:20270328T010000
END:DAYLIGHT
BEGIN:STANDARD
TZOFFSETFROM:+0200
TZOFFSETTO:+0100
TZNAME:CET
DTSTART:20271031T010000
END:STANDARD
END:VTIMEZONE
BEGIN:VEVENT
DTSTART;TZID=Europe/Berlin:20260413T193000
DTEND;TZID=Europe/Berlin:20260413T193000
DTSTAMP:20260422T134441
CREATED:20260403T144130Z
LAST-MODIFIED:20260403T144130Z
UID:3048-1776108600-1776108600@sulzheim-rhh.de
SUMMARY:Zukunts-Check DORF - Treffen des Arbeitskreises Kinder und Jugend
DESCRIPTION:  \nIm Rahmen des Zukunfts-Check DORF trifft sich der Arbeitskreis Kinder und Jugend am 13.04.2026 um 19.30 Uhr im Rathaus\, Hauptstraße 3\, 55286 Sulzheim. \nHierzu sind alle interessierten Mitbürgerinnen und Mitbürger ganz herzlich eingeladen\, damit Sie die Zukunft für unsere Kinder und Jugendlichen in unserem Dorf mitgestalten können. \nWir freuen uns auf Sie! \n  \nMatthias Krauß \nteilen teilen teilen E-Mail 
URL:https://sulzheim-rhh.de/event/zukunts-check-dorf-treffen-des-arbeitskreises-kinder-und-jugend
LOCATION:Rathaus\, Hauptstraße 3\, Sulzheim\, 55286
END:VEVENT
END:VCALENDAR