BEGIN:VCALENDAR
VERSION:2.0
PRODID:-//Ortsgemeinde Sulzheim / Rheinhessen - ECPv6.15.20//NONSGML v1.0//EN
CALSCALE:GREGORIAN
METHOD:PUBLISH
X-ORIGINAL-URL:https://sulzheim-rhh.de
X-WR-CALDESC:Veranstaltungen für Ortsgemeinde Sulzheim / Rheinhessen
REFRESH-INTERVAL;VALUE=DURATION:PT1H
X-Robots-Tag:noindex
X-PUBLISHED-TTL:PT1H
BEGIN:VTIMEZONE
TZID:Europe/Berlin
BEGIN:DAYLIGHT
TZOFFSETFROM:+0100
TZOFFSETTO:+0200
TZNAME:CEST
DTSTART:20250330T010000
END:DAYLIGHT
BEGIN:STANDARD
TZOFFSETFROM:+0200
TZOFFSETTO:+0100
TZNAME:CET
DTSTART:20251026T010000
END:STANDARD
BEGIN:DAYLIGHT
TZOFFSETFROM:+0100
TZOFFSETTO:+0200
TZNAME:CEST
DTSTART:20260329T010000
END:DAYLIGHT
BEGIN:STANDARD
TZOFFSETFROM:+0200
TZOFFSETTO:+0100
TZNAME:CET
DTSTART:20261025T010000
END:STANDARD
BEGIN:DAYLIGHT
TZOFFSETFROM:+0100
TZOFFSETTO:+0200
TZNAME:CEST
DTSTART:20270328T010000
END:DAYLIGHT
BEGIN:STANDARD
TZOFFSETFROM:+0200
TZOFFSETTO:+0100
TZNAME:CET
DTSTART:20271031T010000
END:STANDARD
END:VTIMEZONE
BEGIN:VEVENT
DTSTART;TZID=Europe/Berlin:20260111T140000
DTEND;TZID=Europe/Berlin:20260111T160000
DTSTAMP:20260420T173048
CREATED:20251207T191322Z
LAST-MODIFIED:20260103T174044Z
UID:2909-1768140000-1768147200@sulzheim-rhh.de
SUMMARY:ACHTUNG telefonischer  Kartenvorverkauf - Fastnachtssitzungen
DESCRIPTION:teilen teilen teilen E-Mail 
URL:https://sulzheim-rhh.de/event/fastnachtssitzungen-telefonischer-kartenvorverkauf
LOCATION:Rheinland-Pfalz
END:VEVENT
END:VCALENDAR