BEGIN:VCALENDAR
VERSION:2.0
PRODID:-//Ortsgemeinde Sulzheim / Rheinhessen - ECPv6.15.20//NONSGML v1.0//EN
CALSCALE:GREGORIAN
METHOD:PUBLISH
X-ORIGINAL-URL:https://sulzheim-rhh.de
X-WR-CALDESC:Veranstaltungen für Ortsgemeinde Sulzheim / Rheinhessen
REFRESH-INTERVAL;VALUE=DURATION:PT1H
X-Robots-Tag:noindex
X-PUBLISHED-TTL:PT1H
BEGIN:VTIMEZONE
TZID:Europe/Berlin
BEGIN:DAYLIGHT
TZOFFSETFROM:+0100
TZOFFSETTO:+0200
TZNAME:CEST
DTSTART:20250330T010000
END:DAYLIGHT
BEGIN:STANDARD
TZOFFSETFROM:+0200
TZOFFSETTO:+0100
TZNAME:CET
DTSTART:20251026T010000
END:STANDARD
BEGIN:DAYLIGHT
TZOFFSETFROM:+0100
TZOFFSETTO:+0200
TZNAME:CEST
DTSTART:20260329T010000
END:DAYLIGHT
BEGIN:STANDARD
TZOFFSETFROM:+0200
TZOFFSETTO:+0100
TZNAME:CET
DTSTART:20261025T010000
END:STANDARD
BEGIN:DAYLIGHT
TZOFFSETFROM:+0100
TZOFFSETTO:+0200
TZNAME:CEST
DTSTART:20270328T010000
END:DAYLIGHT
BEGIN:STANDARD
TZOFFSETFROM:+0200
TZOFFSETTO:+0100
TZNAME:CET
DTSTART:20271031T010000
END:STANDARD
END:VTIMEZONE
BEGIN:VEVENT
DTSTART;TZID=Europe/Berlin:20260109T180000
DTEND;TZID=Europe/Berlin:20260109T180000
DTSTAMP:20260420T192709
CREATED:20260107T084301Z
LAST-MODIFIED:20260107T091829Z
UID:2943-1767981600-1767981600@sulzheim-rhh.de
SUMMARY:Landfrauenverein - Stammtisch
DESCRIPTION:  \n  \nHerzliche Einladung an ALLE! \nAuch Nichtmitglieder sind herzlich willkommen! \nteilen teilen teilen E-Mail 
URL:https://sulzheim-rhh.de/event/landfrauenverein-stammtisch
LOCATION:Rathaus Großer Saal\, Hauptstraße 3\, Sulzheim\, Rheinland-Pfalz\, 55286\, Deutschland
END:VEVENT
END:VCALENDAR